BEGIN:VCALENDAR
METHOD:PUBLISH
X-WR-TIMEZONE:America/Denver
PRODID:-//Hold My Ticket.//HMT Web App//EN
CALSCALE:GREGORIAN
METHOD:PUBLISH
X-WR-CALNAME:Tractor Brewing Wells Park
X-WR-CALDESC:Upcoming events at Tractor Brewing Wells Park
BEGIN:VTIMEZONE
TZID:America/Denver 
END:VTIMEZONE
BEGIN:VEVENT
SEQUENCE:2
TRANSP:OPAQUE
UID:d804b2153acea6154f20f83b3b883759
DTSTART:20190330T180000
DTSTAMP:20190330T130135Z
SUMMARY:Beer On Beer
DESCRIPTION:
CREATED:20190330T130135Z
URL;VALUE=URI:http://holdmyticket.com/event/337470 

DTEND:20190330T200000
END:VEVENT
END:VCALENDAR