BEGIN:VCALENDAR
METHOD:PUBLISH
X-WR-TIMEZONE:America/Los_Angeles
PRODID:-//Hold My Ticket.//HMT Web App//EN
CALSCALE:GREGORIAN
METHOD:PUBLISH
X-WR-CALNAME:Downbeat Lounge
X-WR-CALDESC:Upcoming events at Downbeat Lounge
BEGIN:VTIMEZONE
TZID:America/Los_Angeles 
END:VTIMEZONE
BEGIN:VEVENT
SEQUENCE:2
TRANSP:OPAQUE
UID:e4d0954e5f523c655f900d043c5967f9
DTSTART:20190401T190000
DTSTAMP:20190401T140110Z
SUMMARY:Open Mic Mondays at Downbeat
DESCRIPTION:The Grind Entertainment presents Open Mic Mondays in Downbeat Lounge, a showcase for local unsigned talent. Sign-ups are at tgehawaii@gmail.com

April 1
7pm
21+
No Cover

Downbeat Lounge
42 N Hotel
Honolulu, HI 96817

The Grind Entertainment (TGE) is an Oahu based promotion company. TGE's purpose is to serve as a stepping stone for local artists to play bigger shows. Sign-ups are at tgehawaii@gmail.com and https://www.facebook.com/tgehawaii/
CREATED:20190401T140110Z
URL;VALUE=URI:http://holdmyticket.com/event/337514 

DTEND:20190402T010000
END:VEVENT
END:VCALENDAR