BEGIN:VCALENDAR
METHOD:PUBLISH
X-WR-TIMEZONE:America/Chicago
PRODID:-//Hold My Ticket.//HMT Web App//EN
CALSCALE:GREGORIAN
METHOD:PUBLISH
X-WR-CALNAME:Threadgill's 
X-WR-CALDESC:Upcoming events at Threadgill's 
BEGIN:VTIMEZONE
TZID:America/Chicago 
END:VTIMEZONE
BEGIN:VEVENT
SEQUENCE:2
TRANSP:OPAQUE
UID:403f5ce78f903b3f0b23fa7ae67e5c9a
DTSTART:20190414T183000
DTSTAMP:20190414T140121Z
SUMMARY:Soul of a Musician presents: Matt the Electrician 
DESCRIPTION:Despite the name, Matt the Electrician is no longer an electrician, focusing instead on a music career that has spanned the course of two decades, a dozen records, and  thousands of shows. His music, however, remains rooted in his blue collar beginnings, with lyricism that embraces the day-to-day, the mundane, the beauty of the ordinary. 
CREATED:20190414T140121Z
URL;VALUE=URI:http://holdmyticket.com/event/337523 

DTEND:20190414T203000
END:VEVENT
END:VCALENDAR