BEGIN:VCALENDAR
METHOD:PUBLISH
X-WR-TIMEZONE:America/Los_Angeles
PRODID:-//Hold My Ticket.//HMT Web App//EN
CALSCALE:GREGORIAN
METHOD:PUBLISH
X-WR-CALNAME:Humboldt Brews
X-WR-CALDESC:Upcoming events at Humboldt Brews
BEGIN:VTIMEZONE
TZID:America/Los_Angeles 
END:VTIMEZONE
BEGIN:VEVENT
SEQUENCE:2
TRANSP:OPAQUE
UID:449524fffa617fc91633d5c46ea40dd6
DTSTART:20190427T210000
DTSTAMP:20190427T160136Z
SUMMARY:SOUL PARTY #23
DESCRIPTION:DJ's Red, Funky T Rex, and JayMorg spin your favorite soul tunes at our monthly party.
CREATED:20190427T160136Z
URL;VALUE=URI:http://holdmyticket.com/event/337592 

DTEND:20190428T013000
END:VEVENT
END:VCALENDAR