BEGIN:VCALENDAR
METHOD:PUBLISH
X-WR-TIMEZONE:America/Denver
PRODID:-//Hold My Ticket.//HMT Web App//EN
CALSCALE:GREGORIAN
METHOD:PUBLISH
X-WR-CALNAME:Insideout
X-WR-CALDESC:Upcoming events at Insideout
BEGIN:VTIMEZONE
TZID:America/Denver 
END:VTIMEZONE
BEGIN:VEVENT
SEQUENCE:2
TRANSP:OPAQUE
UID:07a228f5a0c906ad6e95da32d2486f06
DTSTART:20190620T190000
DTSTAMP:20190620T140126Z
SUMMARY:Drunken Prayer * Joshua Benjamin Johnson * GRALS
DESCRIPTION:
CREATED:20190620T140126Z
URL;VALUE=URI:http://holdmyticket.com/event/337702 

DTEND:20190620T220000
END:VEVENT
END:VCALENDAR