BEGIN:VCALENDAR
METHOD:PUBLISH
X-WR-TIMEZONE:America/Los_Angeles
PRODID:-//Hold My Ticket.//HMT Web App//EN
CALSCALE:GREGORIAN
METHOD:PUBLISH
X-WR-CALNAME:Downbeat Lounge
X-WR-CALDESC:Upcoming events at Downbeat Lounge
BEGIN:VTIMEZONE
TZID:America/Los_Angeles 
END:VTIMEZONE
BEGIN:VEVENT
SEQUENCE:2
TRANSP:OPAQUE
UID:a8234d73d5ada2eb6b3e60cc10735acc
DTSTART:20190410T190000
DTSTAMP:20190410T140145Z
SUMMARY:Karaoke at Downbeat Lounge
DESCRIPTION:Be a rock star with Karaoke at Downbeat Lounge. Get some liquid courage and use the Lounge's new karaoke machine. $1 a song.

April 10
7pm
21+
No Cover

Downbeat Lounge
42 N Hotel Street
Honolulu, HI 96817
CREATED:20190410T140145Z
URL;VALUE=URI:http://holdmyticket.com/event/337745 

DTEND:20190411T010000
END:VEVENT
END:VCALENDAR