BEGIN:VCALENDAR
METHOD:PUBLISH
X-WR-TIMEZONE:America/Los_Angeles
PRODID:-//Hold My Ticket.//HMT Web App//EN
CALSCALE:GREGORIAN
METHOD:PUBLISH
X-WR-CALNAME:Downbeat Lounge
X-WR-CALDESC:Upcoming events at Downbeat Lounge
BEGIN:VTIMEZONE
TZID:America/Los_Angeles 
END:VTIMEZONE
BEGIN:VEVENT
SEQUENCE:2
TRANSP:OPAQUE
UID:2a03e0e9f84e82d2ecc3059b1ced401e
DTSTART:20190412T210000
DTSTAMP:20190412T160114Z
SUMMARY:Kaleidoscope - Spring Fever Edition
DESCRIPTION:DJ Jet Boy presents Kaleidoscope -  Spring Fever Edition  at Downbeat Lounge. With live music by harpist Michelle Rose Tucker, indie trio The Chronies, dream pop band Boy &amp; Sea and garage rockers The Maneki Nekos.

April 12
9pm
21+
$5

Downbeat Lounge
42 N Hotel Street
Honolulu, HI 96817

KALEIDOSCOPE is an indie music concept created by Josh86 and DJ DiscoRude in 2003, to showcase local bands that fall outside of the mainstream. The genres explored range from punk to soul to disco to folk. It helped build a scene with acts such as Linus the Band, The Malcognitas, Le Tenia, At Sea, Painted Highways, Gary Liu, Sabrina, DJ Jet Boy and more.https://www.facebook.com/kscopehi/

THE MANEKI NEKOS are a five-piece independent rock band based in Honolulu, Hawaii. Their sound could be described as bluesy garage-rock with a bit of soul, inspired by the likes of The Black Keys, The White Stripes, Radio Moscow, The Kills, and Band of Skulls
https://www.facebook.com/themanekinekos/

The Chronies (pronounced "crow-knees") is a rock band based in Honolulu, Hawai'i. Formed in 2015, the band currently consists of singer-bassist Landan Tolentino, guitarist Austin Fox, and drummer Corey Quinones. The trio has managed to successfully meld their various backgrounds in Hawaiian music, Dub Reggae, Hip Hop and Classic Rock into a simultaneously nostalgic-yet-refreshing performance.
https://www.facebook.com/thechroniesmusic/
https://soundcloud.com/the-chronies

Michelle Rose Tucker's songs are layered, musically and lyrically, diving into all aspects of the human experience. Though Michelle grew up playing classical music, she grew up listening to music more along the lines of classic rock. She takes to her diverse musical roots by combining elements of classical, psychedelic rock, alternative pop, improvisational with a bit of jazz in her songs. She feels at home when she is in her home studio, writing, playing, singing, experimenting, and recording. 
https://www.facebook.com/michelle.rose.tucker/
https://www.michellerosetucker.com/

Boy and Sea is a electronic-indie-pop-rock-ish-band based in Honolulu. The music is an eclectic mix of noise, fuzz and electronic blips
https://www.facebook.com/boyandsea/
https://boyandsea.bandcamp.com/

DJ JET BOY is a DJ and promoter working in Chinatown, Honolulu. He has been a part of the music scene since 2006 and played at venues from Detox to Downbeat. His range of music varies from ska to indie rock to Motown. He has opened for acts such as Steve Aoki, Black Lips, etc. Jet Boy is currently booking Kaleidoscope - Honolulu's longest-running indie rock night
https://www.facebook.com/djjetboy/
CREATED:20190412T160114Z
URL;VALUE=URI:http://holdmyticket.com/event/337749 

DTEND:20190413T020000
END:VEVENT
END:VCALENDAR