BEGIN:VCALENDAR
METHOD:PUBLISH
X-WR-TIMEZONE:America/Los_Angeles
PRODID:-//Hold My Ticket.//HMT Web App//EN
CALSCALE:GREGORIAN
METHOD:PUBLISH
X-WR-CALNAME:Downbeat Lounge
X-WR-CALDESC:Upcoming events at Downbeat Lounge
BEGIN:VTIMEZONE
TZID:America/Los_Angeles 
END:VTIMEZONE
BEGIN:VEVENT
SEQUENCE:2
TRANSP:OPAQUE
UID:c52ba84f715ea90bde9f9c25b903760c
DTSTART:20190403T180000
DTSTAMP:20190403T130140Z
SUMMARY:The Beat Surrender at Downbeat Lounge
DESCRIPTION:DJ Jet Boy lays down some happy hour tracks at Downbeat Lounge. Selections of indie rock, Northern Soul and Brit Pop.

April 3
6-8pm
21+
No Cover

Downbeat Lounge
42 N Hotel Street
Honolulu, HI 96817

DJ JET BOY is a DJ and promoter working in Chinatown, Honolulu. He has been a part of the music scene since 2006 and played at venues from Detox to Downbeat. His range of music varies from ska to indie rock to Motown. He has opened for acts such as Steve Aoki, Black Lips, etc. Jet Boy is currently booking Kaleidoscope - Honolulu's longest-running indie rock night
https://www.facebook.com/djjetboy/
CREATED:20190403T130140Z
URL;VALUE=URI:http://holdmyticket.com/event/337777 

DTEND:20190403T200000
END:VEVENT
END:VCALENDAR