BEGIN:VCALENDAR
METHOD:PUBLISH
X-WR-TIMEZONE:America/Los_Angeles
PRODID:-//Hold My Ticket.//HMT Web App//EN
CALSCALE:GREGORIAN
METHOD:PUBLISH
X-WR-CALNAME:Downbeat Lounge
X-WR-CALDESC:Upcoming events at Downbeat Lounge
BEGIN:VTIMEZONE
TZID:America/Los_Angeles 
END:VTIMEZONE
BEGIN:VEVENT
SEQUENCE:2
TRANSP:OPAQUE
UID:e46a35be55174cd559b5a288bffb0f81
DTSTART:20190419T210000
DTSTAMP:20190419T160151Z
SUMMARY:The Clampdown with Castle Park and Humble Soul
DESCRIPTION:Bumbaclotkat presents The Clampdown with a special 4/20 lineup including live hip-hop band Castle Park, neo soul artist Bound, roots reggae group Humble Soul and art-punks The Common Dandies

April 19
9pm
21+
$5

Downbeat Lounge
42 N Hotel Street
Honolulu, HI 96817

THE CLAMPDOWN is a live local music showcase focusing on the evolution of punk, hardcore, ska, indie rock, and experimental music in the Honolulu area. The Clampdown also features local DJ's and occasionally touring acts from the mainland and beyond.
https://www.facebook.com/Downbeatlounge/

CASTLE PARK: Hawaii-based band specializing in golden era hip-hop &amp; the proliferation of heavy vibes. We're pretty sure the 80's theme park named themselves after us.
https://www.facebook.com/castleparkmusic/

Encompassing the spirit of aloha and the soul of reggae music, Hawaii's own Humble Soul continues to warm the hearts of music lovers from the shores of the Pacific rim to the blazing tip of South Africa with his distinctive style of honest "Hawaiian-Roots-Music". His poetic anthems and understated melodies have been consistently celebrated by concert and festival goer's of all kinds. Thankful in every way, Humble Soul feels very blessed by the tremendous support of his family of growing fans. He keeps a low profile off-stage, however, Humble Soul's passionate live delivery and recorded music speaks volumes.
https://www.facebook.com/Humble-Soul-Official-346808373567/
http://www.hawaiianreggae.org/humble-soul/
http://humblesoul.com/

Bound is a neo-soul, R&amp;B act from Nick Kurosawa, based in Honolulu, HI
https://bound808.bandcamp.com/album/bound-ep

Hailing from Orange County California, THE COMMON DANDIES are here to bring you their signature blend of soothing sounds, liberal noises, and melodic disharmony
https://thecommondandies.bandcamp.com/
https://soundcloud.com/thecommondandies
https://www.instagram.com/thecommondandies/
CREATED:20190419T160151Z
URL;VALUE=URI:http://holdmyticket.com/event/337835 

DTEND:20190420T010000
END:VEVENT
END:VCALENDAR