BEGIN:VCALENDAR
METHOD:PUBLISH
X-WR-TIMEZONE:America/Los_Angeles
PRODID:-//Hold My Ticket.//HMT Web App//EN
CALSCALE:GREGORIAN
METHOD:PUBLISH
X-WR-CALNAME:Humboldt Brews
X-WR-CALDESC:Upcoming events at Humboldt Brews
BEGIN:VTIMEZONE
TZID:America/Los_Angeles 
END:VTIMEZONE
BEGIN:VEVENT
SEQUENCE:2
TRANSP:OPAQUE
UID:821d67cdfadb33cd4817af901db91ca7
DTSTART:20190426T180000
DTSTAMP:20190426T130203Z
SUMMARY:The Humboldt Circus is coming to Humbrews
DESCRIPTION:The Humboldt Circus is an eclectic group of creative people looking to learn and share skills in the performance arts.   Juggling, skits, puppets, live music, and more.
CREATED:20190426T130203Z
URL;VALUE=URI:http://holdmyticket.com/event/338087 

DTEND:20190426T234500
END:VEVENT
END:VCALENDAR