BEGIN:VCALENDAR
METHOD:PUBLISH
X-WR-TIMEZONE:America/Los_Angeles
PRODID:-//Hold My Ticket.//HMT Web App//EN
CALSCALE:GREGORIAN
METHOD:PUBLISH
X-WR-CALNAME:Humboldt Brews
X-WR-CALDESC:Upcoming events at Humboldt Brews
BEGIN:VTIMEZONE
TZID:America/Los_Angeles 
END:VTIMEZONE
BEGIN:VEVENT
SEQUENCE:2
TRANSP:OPAQUE
UID:1de5dd1b8ace4acd86938e9d1f86fd85
DTSTART:20190427T160000
DTSTAMP:20190427T110140Z
SUMMARY:Humboldt Circus
DESCRIPTION:The Humboldt Circus will be entertaining you at an All Ages matinee show.  Juggling, skits, puppets, live music and more.
CREATED:20190427T110140Z
URL;VALUE=URI:http://holdmyticket.com/event/338090 

DTEND:20190427T180000
END:VEVENT
END:VCALENDAR