BEGIN:VCALENDAR
METHOD:PUBLISH
X-WR-TIMEZONE:America/Los_Angeles
PRODID:-//Hold My Ticket.//HMT Web App//EN
CALSCALE:GREGORIAN
METHOD:PUBLISH
X-WR-CALNAME:Pioneer Event Center
X-WR-CALDESC:Upcoming events at Pioneer Event Center
BEGIN:VTIMEZONE
TZID:America/Los_Angeles 
END:VTIMEZONE
BEGIN:VEVENT
SEQUENCE:2
TRANSP:OPAQUE
UID:2007529c1920f0038440f67644d7702f
DTSTART:20190413T090000
DTSTAMP:20190413T040112Z
SUMMARY:FUTSAL TOURNAMENT
DESCRIPTION:
CREATED:20190413T040112Z
URL;VALUE=URI:http://holdmyticket.com/event/338128 

DTEND:20190413T170000
END:VEVENT
END:VCALENDAR