BEGIN:VCALENDAR
METHOD:PUBLISH
X-WR-TIMEZONE:America/Chicago
PRODID:-//Hold My Ticket.//HMT Web App//EN
CALSCALE:GREGORIAN
METHOD:PUBLISH
X-WR-CALNAME:Threadgill's 
X-WR-CALDESC:Upcoming events at Threadgill's 
BEGIN:VTIMEZONE
TZID:America/Chicago 
END:VTIMEZONE
BEGIN:VEVENT
SEQUENCE:2
TRANSP:OPAQUE
UID:09712dbf7e6a2a44ba139c400b84fff1
DTSTART:20190501T190000
DTSTAMP:20190501T140143Z
SUMMARY:Midweek Modern Troubadours featuring Jana Pochop and Special Guest Shawnee Kilgore
DESCRIPTION:Join us for our new Wednesday night music series, Midweek Modern Troubadours, featuring Jana Pochop with special guests. This week's guest is the talented Shawnee Kilgore, performing live 7-9pm. 
CREATED:20190501T140143Z
URL;VALUE=URI:http://holdmyticket.com/event/338400 

DTEND:20190501T210000
END:VEVENT
END:VCALENDAR