BEGIN:VCALENDAR
METHOD:PUBLISH
X-WR-TIMEZONE:America/Chicago
PRODID:-//Hold My Ticket.//HMT Web App//EN
CALSCALE:GREGORIAN
METHOD:PUBLISH
X-WR-CALNAME:Threadgill's 
X-WR-CALDESC:Upcoming events at Threadgill's 
BEGIN:VTIMEZONE
TZID:America/Chicago 
END:VTIMEZONE
BEGIN:VEVENT
SEQUENCE:2
TRANSP:OPAQUE
UID:0438450c97b4a5e530c2b4332db2706d
DTSTART:20190508T190000
DTSTAMP:20190508T140141Z
SUMMARY:Midweek Modern Troubadours featuring Jana Pochop and Special Guest Susan Gibson
DESCRIPTION:Join us for our new Wednesday night music series, Midweek Modern Troubadours, featuring Jana Pochop with special guests. This week's guest is Susan Gibson, a dedicated singer, songwriter, and performing musician. She's also a CMA award-winning songwriter (the Dixie Chicks took the Gibson-penned "Wide Open Spaces" to the top for four weeks). 
CREATED:20190508T140141Z
URL;VALUE=URI:http://holdmyticket.com/event/338402 

DTEND:20190508T210000
END:VEVENT
END:VCALENDAR