BEGIN:VCALENDAR
METHOD:PUBLISH
X-WR-TIMEZONE:America/Chicago
PRODID:-//Hold My Ticket.//HMT Web App//EN
CALSCALE:GREGORIAN
METHOD:PUBLISH
X-WR-CALNAME:Threadgill's 
X-WR-CALDESC:Upcoming events at Threadgill's 
BEGIN:VTIMEZONE
TZID:America/Chicago 
END:VTIMEZONE
BEGIN:VEVENT
SEQUENCE:2
TRANSP:OPAQUE
UID:5ef079d2108fa226d0fdaf91b62a2c2a
DTSTART:20190515T190000
DTSTAMP:20190515T140123Z
SUMMARY:Midweek Modern Troubadours featuring Jana Pochop and Special Guest Bonnie Whitmore
DESCRIPTION:Join us for our new Wednesday night music series, Midweek Modern Troubadours, featuring Jana Pochop with special guests. This week's guest is Bonnie Whitmore, a captivating artist and talented performer. 
CREATED:20190515T140123Z
URL;VALUE=URI:http://holdmyticket.com/event/338404 

DTEND:20190515T210000
END:VEVENT
END:VCALENDAR