BEGIN:VCALENDAR
METHOD:PUBLISH
X-WR-TIMEZONE:America/Chicago
PRODID:-//Hold My Ticket.//HMT Web App//EN
CALSCALE:GREGORIAN
METHOD:PUBLISH
X-WR-CALNAME:Threadgill's 
X-WR-CALDESC:Upcoming events at Threadgill's 
BEGIN:VTIMEZONE
TZID:America/Chicago 
END:VTIMEZONE
BEGIN:VEVENT
SEQUENCE:2
TRANSP:OPAQUE
UID:66d197886cdd13fcd3ceff68df6f8e56
DTSTART:20190522T190000
DTSTAMP:20190522T140126Z
SUMMARY:Midweek Modern Troubadours featuring Jana Pochop and Special Guest Kelley Mickwee
DESCRIPTION:Join us for our new Wednesday night music series, Midweek Modern Troubadours, featuring Jana Pochop with special guests. This week's guest is Kelley Mickwee. After more than a decade of fine-tuning her performance chops, first as half of the Tennessee-based folk duo Jed and Kelley and later as part of the all-girl Texas group the Trishas, Mickwee is releasing an official solo debut that plays like an all-pieces-falling-into- place mission statement of a seasoned artist who's finally come into her own.
CREATED:20190522T140126Z
URL;VALUE=URI:http://holdmyticket.com/event/338405 

DTEND:20190522T210000
END:VEVENT
END:VCALENDAR