BEGIN:VCALENDAR
METHOD:PUBLISH
X-WR-TIMEZONE:America/Chicago
PRODID:-//Hold My Ticket.//HMT Web App//EN
CALSCALE:GREGORIAN
METHOD:PUBLISH
X-WR-CALNAME:Threadgill's 
X-WR-CALDESC:Upcoming events at Threadgill's 
BEGIN:VTIMEZONE
TZID:America/Chicago 
END:VTIMEZONE
BEGIN:VEVENT
SEQUENCE:2
TRANSP:OPAQUE
UID:0f50d088206ecff3bac7d694c6078200
DTSTART:20190529T190000
DTSTAMP:20190529T140150Z
SUMMARY:Midweek Modern Troubadours featuring Jana Pochop and Special Guest Mandy Rowden
DESCRIPTION:Join us for our new Wednesday night music series, Midweek Modern Troubadours, featuring Jana Pochop with special guests. This week's guest is Mandy Rowden, described by the Austin Chronicle as: "the East Texas native kicks some butt with her pen," and while demonstrating "new talent, she's capable of writing defiantly pointed lyrics."
CREATED:20190529T140150Z
URL;VALUE=URI:http://holdmyticket.com/event/338406 

DTEND:20190529T210000
END:VEVENT
END:VCALENDAR