BEGIN:VCALENDAR
METHOD:PUBLISH
X-WR-TIMEZONE:America/Denver
PRODID:-//Hold My Ticket.//HMT Web App//EN
CALSCALE:GREGORIAN
METHOD:PUBLISH
X-WR-CALNAME:Egyptian Theatre
X-WR-CALDESC:Upcoming events at Egyptian Theatre
BEGIN:VTIMEZONE
TZID:America/Denver 
END:VTIMEZONE
BEGIN:VEVENT
SEQUENCE:2
TRANSP:OPAQUE
UID:b59e43dd2c5033b2f14a2131da7d8c85
DTSTART:20191228T200000
DTSTAMP:20191228T160117Z
SUMMARY:The 5th Dimension
DESCRIPTION:
CREATED:20191228T160117Z
URL;VALUE=URI:http://holdmyticket.com/event/338465 

DTEND:20191228T220000
END:VEVENT
END:VCALENDAR