BEGIN:VCALENDAR
METHOD:PUBLISH
X-WR-TIMEZONE:America/Los_Angeles
PRODID:-//Hold My Ticket.//HMT Web App//EN
CALSCALE:GREGORIAN
METHOD:PUBLISH
X-WR-CALNAME:Humboldt Brews
X-WR-CALDESC:Upcoming events at Humboldt Brews
BEGIN:VTIMEZONE
TZID:America/Los_Angeles 
END:VTIMEZONE
BEGIN:VEVENT
SEQUENCE:2
TRANSP:OPAQUE
UID:34b064c4702e08beb9f1e995861c3c68
DTSTART:20190502T213000
DTSTAMP:20190502T171806Z
SUMMARY:Sepiatonic
DESCRIPTION:Sepiatonic is a live and electronic music and dance experience from Portland, Oregon! Brass, bass, beats, belly dance, and burlesque: We are Electro-Vaudeville!

Emerging from the emerald twilight of Portland, OR, Sepiatonic's work represents it's hometown's unique, innovative, and sometimes quirky energy.

Having looked back in time to the historic roots of vaudeville and forward to the booty-shaking horizons of electronic dance music, Sepiatonic's producers have found home in a junction of both worlds. Larger than life characters, burlesque, and variety acts bring to life the soundscape of original electronic and live music on stage.

Check out our new promo reel: https://www.youtube.com/watch?v=-Gr_iTkd32E

Sepiatonic strives for a visceral show experience where the dance party in the crowd pumps up the musicians onstage, and the dynamic dance acts onstage inspire you, the audience, to shake your groove thing more fiercely.

Our arsenal of performers is as diverse as our various shows, but is always comprised of highly skilled, technically trained dancers and musicians.

Sepiatonic tours, produces, and is available for shows as a full-length dance party and variety set, as just a belly dance act, or as composers, choreographers, or teachers for events or commission. Our professionals have choreographed, arranged music, and led workshops on a variety of subjects, at festivals across the country.
CREATED:20190502T171806Z
URL;VALUE=URI:http://holdmyticket.com/event/338818 

DTEND:20190503T003000
END:VEVENT
END:VCALENDAR