BEGIN:VCALENDAR
METHOD:PUBLISH
X-WR-TIMEZONE:America/Denver
PRODID:-//Hold My Ticket.//HMT Web App//EN
CALSCALE:GREGORIAN
METHOD:PUBLISH
X-WR-CALNAME:Tractor Brewing Wells Park
X-WR-CALDESC:Upcoming events at Tractor Brewing Wells Park
BEGIN:VTIMEZONE
TZID:America/Denver 
END:VTIMEZONE
BEGIN:VEVENT
SEQUENCE:2
TRANSP:OPAQUE
UID:b94d0ad859b161ff565981a4cb4e7c1a
DTSTART:20190601T200000
DTSTAMP:20190601T185528Z
SUMMARY:Prism B tch Unplugged 
DESCRIPTION:You know them. You love them. You've seen them. Now hear them like you've never heard Prism B tch before. Unplugged and intimate. This show will be a one off by the Albuquerque band so catch it while you can.
CREATED:20190601T185528Z
URL;VALUE=URI:http://holdmyticket.com/event/338863 

DTEND:20190601T220000
END:VEVENT
END:VCALENDAR