BEGIN:VCALENDAR
METHOD:PUBLISH
X-WR-TIMEZONE:America/Denver
PRODID:-//Hold My Ticket.//HMT Web App//EN
CALSCALE:GREGORIAN
METHOD:PUBLISH
X-WR-CALNAME:Albuquerque Museum Amphitheater
X-WR-CALDESC:Upcoming events at Albuquerque Museum Amphitheater
BEGIN:VTIMEZONE
TZID:America/Denver 
END:VTIMEZONE
BEGIN:VEVENT
SEQUENCE:2
TRANSP:OPAQUE
UID:76358687c9c390d582460719600fa269
DTSTART:20190629T190000
DTSTAMP:20190629T140119Z
SUMMARY:Yogev Shetrit Trio 
DESCRIPTION:
CREATED:20190629T140119Z
URL;VALUE=URI:http://holdmyticket.com/event/339019 

DTEND:20190629T213000
END:VEVENT
END:VCALENDAR