BEGIN:VCALENDAR
METHOD:PUBLISH
X-WR-TIMEZONE:America/Chicago
PRODID:-//Hold My Ticket.//HMT Web App//EN
CALSCALE:GREGORIAN
METHOD:PUBLISH
X-WR-CALNAME:Threadgill's 
X-WR-CALDESC:Upcoming events at Threadgill's 
BEGIN:VTIMEZONE
TZID:America/Chicago 
END:VTIMEZONE
BEGIN:VEVENT
SEQUENCE:2
TRANSP:OPAQUE
UID:629645ac3b69450719637552a8169fca
DTSTART:20190510T200000
DTSTAMP:20190510T150134Z
SUMMARY:Songwriters Series: Van Wilks 
DESCRIPTION:Van Wilks has long been lauded as one of the city's master guitar players. His talents as a guitarist and band leader have won him consistent critical praise and a string of honors that was capped when he was voted by Austin music fans into the Austin Chronicle's "Texas Music Hall of Fame" alongside the state's most legendary musical talents. 
CREATED:20190510T150134Z
URL;VALUE=URI:http://holdmyticket.com/event/339059 

DTEND:20190510T220000
END:VEVENT
END:VCALENDAR