BEGIN:VCALENDAR
METHOD:PUBLISH
X-WR-TIMEZONE:America/Chicago
PRODID:-//Hold My Ticket.//HMT Web App//EN
CALSCALE:GREGORIAN
METHOD:PUBLISH
X-WR-CALNAME:Threadgill's 
X-WR-CALDESC:Upcoming events at Threadgill's 
BEGIN:VTIMEZONE
TZID:America/Chicago 
END:VTIMEZONE
BEGIN:VEVENT
SEQUENCE:2
TRANSP:OPAQUE
UID:6d34464e3d1d471a900904024bd928d1
DTSTART:20190511T200000
DTSTAMP:20190511T150128Z
SUMMARY:The Eggmen
DESCRIPTION:The Eggmen are Austin's premier Beatles Tribute band and have won Austin Chronicle's Award for "Best Cover Band" 11 years and counting. In 2005 they won "America's Best Tribute Band" at the National Music Awards.
CREATED:20190511T150128Z
URL;VALUE=URI:http://holdmyticket.com/event/339061 

DTEND:20190511T220000
END:VEVENT
END:VCALENDAR