BEGIN:VCALENDAR
METHOD:PUBLISH
X-WR-TIMEZONE:America/Chicago
PRODID:-//Hold My Ticket.//HMT Web App//EN
CALSCALE:GREGORIAN
METHOD:PUBLISH
X-WR-CALNAME:Threadgill's 
X-WR-CALDESC:Upcoming events at Threadgill's 
BEGIN:VTIMEZONE
TZID:America/Chicago 
END:VTIMEZONE
BEGIN:VEVENT
SEQUENCE:2
TRANSP:OPAQUE
UID:adb0f0d461b78d0a319b031ae39cef04
DTSTART:20190524T200000
DTSTAMP:20190524T150147Z
SUMMARY:Trout Fishing in America
DESCRIPTION:Trout Fishing in America is the longstanding, four-time GRAMMY nominated musical partnership of Keith Grimwood and Ezra Idlet. A willingness to at once make fun of our most annoying daily habits, then to touch our hearts with tender and passionate images of family life, is what makes the connection between the duo and their audiences so compelling and poignant. "...the Lennon and McCartney of kids' music." - National Public Radio
CREATED:20190524T150147Z
URL;VALUE=URI:http://holdmyticket.com/event/339063 

DTEND:20190524T220000
END:VEVENT
END:VCALENDAR