BEGIN:VCALENDAR
METHOD:PUBLISH
X-WR-TIMEZONE:America/Chicago
PRODID:-//Hold My Ticket.//HMT Web App//EN
CALSCALE:GREGORIAN
METHOD:PUBLISH
X-WR-CALNAME:Threadgill's 
X-WR-CALDESC:Upcoming events at Threadgill's 
BEGIN:VTIMEZONE
TZID:America/Chicago 
END:VTIMEZONE
BEGIN:VEVENT
SEQUENCE:2
TRANSP:OPAQUE
UID:8041cb03edd251def011d6b7d4d64c8c
DTSTART:20190525T200000
DTSTAMP:20190525T150200Z
SUMMARY:Songwriters Series: Bob Livingston and Bradley Kopp
DESCRIPTION:
CREATED:20190525T150200Z
URL;VALUE=URI:http://holdmyticket.com/event/339064 

DTEND:20190525T220000
END:VEVENT
END:VCALENDAR