BEGIN:VCALENDAR
METHOD:PUBLISH
X-WR-TIMEZONE:America/Chicago
PRODID:-//Hold My Ticket.//HMT Web App//EN
CALSCALE:GREGORIAN
METHOD:PUBLISH
X-WR-CALNAME:Threadgill's 
X-WR-CALDESC:Upcoming events at Threadgill's 
BEGIN:VTIMEZONE
TZID:America/Chicago 
END:VTIMEZONE
BEGIN:VEVENT
SEQUENCE:2
TRANSP:OPAQUE
UID:b88cba984c17674d67fce092f07b92c5
DTSTART:20190531T200000
DTSTAMP:20190531T150134Z
SUMMARY:Songwriters Series: Waitin' on Hayden
DESCRIPTION:Waitin' on Hayden are dubbed the unapologetic country red dirt rock group from San Antonio, Texas. The group creates a tasteful blend of true country and southern rock, with just the right amount of Texas grit. With rich vocal work to bring out the emotion of their lyrics, melodic harmonies between guitars and pedal steel, and a powerful backing rhythm, this band places its main emphasis on giving the audience a one of a kind performance that will leave them asking for more. 
CREATED:20190531T150134Z
URL;VALUE=URI:http://holdmyticket.com/event/339065 

DTEND:20190531T220000
END:VEVENT
END:VCALENDAR