BEGIN:VCALENDAR
METHOD:PUBLISH
X-WR-TIMEZONE:America/Los_Angeles
PRODID:-//Hold My Ticket.//HMT Web App//EN
CALSCALE:GREGORIAN
METHOD:PUBLISH
X-WR-CALNAME:Humboldt Brews
X-WR-CALDESC:Upcoming events at Humboldt Brews
BEGIN:VTIMEZONE
TZID:America/Los_Angeles 
END:VTIMEZONE
BEGIN:VEVENT
SEQUENCE:2
TRANSP:OPAQUE
UID:d1c590dce54bb1075bad38c47414e15d
DTSTART:20190425T220000
DTSTAMP:20190425T170131Z
SUMMARY:Brews n' Bass
DESCRIPTION:Join us April 25th for the next Brews 'n Bass! Don't miss out on this monthly bass party that keeps the dance floor moving, consistently promising good beats and good vibes. Come check out what everyone is talking about. Doors open at 10pm.
CREATED:20190425T170131Z
URL;VALUE=URI:http://holdmyticket.com/event/339208 

DTEND:20190426T010000
END:VEVENT
END:VCALENDAR