BEGIN:VCALENDAR
METHOD:PUBLISH
X-WR-TIMEZONE:America/Denver
PRODID:-//Hold My Ticket.//HMT Web App//EN
CALSCALE:GREGORIAN
METHOD:PUBLISH
X-WR-CALNAME:EXPO New Mexico 
X-WR-CALDESC:Upcoming events at EXPO New Mexico 
BEGIN:VTIMEZONE
TZID:America/Denver 
END:VTIMEZONE
BEGIN:VEVENT
SEQUENCE:2
TRANSP:OPAQUE
UID:29d711489dd52675d654579660cbe326
DTSTART:20190629T120000
DTSTAMP:20190629T070121Z
SUMMARY:Cider66
DESCRIPTION:
CREATED:20190629T070121Z
URL;VALUE=URI:http://holdmyticket.com/event/339217 

DTEND:20190629T180000
END:VEVENT
END:VCALENDAR