BEGIN:VCALENDAR
METHOD:PUBLISH
X-WR-TIMEZONE:America/Los_Angeles
PRODID:-//Hold My Ticket.//HMT Web App//EN
CALSCALE:GREGORIAN
METHOD:PUBLISH
X-WR-CALNAME:Humboldt Brews
X-WR-CALDESC:Upcoming events at Humboldt Brews
BEGIN:VTIMEZONE
TZID:America/Los_Angeles 
END:VTIMEZONE
BEGIN:VEVENT
SEQUENCE:2
TRANSP:OPAQUE
UID:f1deb1f643f2e87cef0d8f3acefe9fba
DTSTART:20190518T210000
DTSTAMP:20190518T214704Z
SUMMARY:Soul Party #24
DESCRIPTION:Celebrate HSU graduation with our monthly DJ's Red, Funky T-Rex, and JayMorg spinning your favorite soul tunes. 
CREATED:20190518T214704Z
URL;VALUE=URI:http://holdmyticket.com/event/339340 

DTEND:20190519T013000
END:VEVENT
END:VCALENDAR