BEGIN:VCALENDAR
METHOD:PUBLISH
X-WR-TIMEZONE:America/Los_Angeles
PRODID:-//Hold My Ticket.//HMT Web App//EN
CALSCALE:GREGORIAN
METHOD:PUBLISH
X-WR-CALNAME:Humboldt Brews
X-WR-CALDESC:Upcoming events at Humboldt Brews
BEGIN:VTIMEZONE
TZID:America/Los_Angeles 
END:VTIMEZONE
BEGIN:VEVENT
SEQUENCE:2
TRANSP:OPAQUE
UID:188f52ec26234a041edc99134dd9c862
DTSTART:20190509T213000
DTSTAMP:20190509T170150Z
SUMMARY:Edge of the West
DESCRIPTION:Americana Jamband Edge of the West has been up and rocking for about 3 years now, steadily touring throughout the western states, Alaska and Hawaii. The first record, still enjoying Americana Radio airplay, was released in Spring 2016 and the next one is in process for a Spring 2018 release. This band is a crowd-pleaser every time. The music hits the spot for folks of various stripes, with it's eclectic blend of outlaw hippie roots-rock meets jamband dance party. It's not a Dead tribute but they scratch that itch for the Deadicated. Americana fans love the strong originals. Jambanders do their whirling Dervish dances. Honky Tonkers hoot and holler. Featuring familiar members who've also played in the New Riders of the Purple Sage, Todd Snider, David Nelson band, Peter Rowan, Great American Taxi, Bastard Sons of Johnny Cash, etc, the band has some serious cred, history, family ties and deep musical roots. And they know how to show 'em a good time. That's what they do.

Guitar, Vocals:       Jim Lewin      (Todd Snider, Great American Taxi, Frank Wakefield)
Bass, Vocals:          Bill Laymon   (New Riders of the Purple Sage, David Nelson Band)
Keyboard, Vocals: Ken Margolis:   (Bo Diddley, The Choir)
Drums, Vocals:      Marty Carpenter (Bastard Sons of Johnny Cash, Freddy Fender)
CREATED:20190509T170150Z
URL;VALUE=URI:http://holdmyticket.com/event/339504 

DTEND:20190510T003000
END:VEVENT
END:VCALENDAR