BEGIN:VCALENDAR
METHOD:PUBLISH
X-WR-TIMEZONE:America/Shiprock
PRODID:-//Hold My Ticket.//HMT Web App//EN
CALSCALE:GREGORIAN
METHOD:PUBLISH
X-WR-CALNAME:Kit Carson Park
X-WR-CALDESC:Upcoming events at Kit Carson Park
BEGIN:VTIMEZONE
TZID:America/Shiprock 
END:VTIMEZONE
BEGIN:VEVENT
SEQUENCE:2
TRANSP:OPAQUE
UID:a269ed098cd70d47050b8f044b5cd185
DTSTART:20190902T190000
DTSTAMP:20190902T185338Z
SUMMARY:Sting: My Songs - SOLD OUT
DESCRIPTION:"Sting: My Songs" will feature many of the 17-time Grammy Award winner's most celebrated hits, both with The Police and as a solo artist. Fans can expect to hear "Englishman In New York," "Fields Of Gold," "Shape Of My Heart," "Every Breath You Take," "Roxanne," "Message In A Bottle" and many more. Fantastic Negrito will open the show.
CREATED:20190902T185338Z
URL;VALUE=URI:http://holdmyticket.com/event/339728 

DTEND:20190902T220000
END:VEVENT
END:VCALENDAR