BEGIN:VCALENDAR
METHOD:PUBLISH
X-WR-TIMEZONE:America/New_York
PRODID:-//Hold My Ticket.//HMT Web App//EN
CALSCALE:GREGORIAN
METHOD:PUBLISH
X-WR-CALNAME:The Kelsey Theater
X-WR-CALDESC:Upcoming events at The Kelsey Theater
BEGIN:VTIMEZONE
TZID:America/New_York 
END:VTIMEZONE
BEGIN:VEVENT
SEQUENCE:2
TRANSP:OPAQUE
UID:1aa5501ba2bac898d1f41a71882448de
DTSTART:20190615T193000
DTSTAMP:20190615T150105Z
SUMMARY:Full Throttle Pro Wrestling presents Fight Club : Untamed
DESCRIPTION:Live Professional Wrestling with highflying action and crowd participation!
CREATED:20190615T150105Z
URL;VALUE=URI:http://holdmyticket.com/event/339781 

DTEND:20190615T220000
END:VEVENT
END:VCALENDAR