BEGIN:VCALENDAR
METHOD:PUBLISH
X-WR-TIMEZONE:America/Denver
PRODID:-//Hold My Ticket.//HMT Web App//EN
CALSCALE:GREGORIAN
METHOD:PUBLISH
X-WR-CALNAME:Railyard Plaza
X-WR-CALDESC:Upcoming events at Railyard Plaza
BEGIN:VTIMEZONE
TZID:America/Denver 
END:VTIMEZONE
BEGIN:VEVENT
SEQUENCE:2
TRANSP:OPAQUE
UID:27e44601f41a24449255a4d3bf0a819a
DTSTART:20190629T180000
DTSTAMP:20190629T130126Z
SUMMARY:Novalima - FREE SHOW
DESCRIPTION:Started by four friends from Lima with a shared passion for traditional Afro-Peruvian music and global DJ culture, Novalima stands in the common ground bridging past and future, uniting tradition and innovation. From their humble start, file-sharing musical ideas and producing their first album in separate countries at the dawn of the internet, Novalima is now a live musical force revered worldwide for breaking boundaries and uniting seemingly irreconcilable genres, communities, and generations. Tesuque Revolt will open the show.
CREATED:20190629T130126Z
URL;VALUE=URI:http://holdmyticket.com/event/341287 

DTEND:20190629T213000
END:VEVENT
END:VCALENDAR