BEGIN:VCALENDAR
METHOD:PUBLISH
X-WR-TIMEZONE:America/Denver
PRODID:-//Hold My Ticket.//HMT Web App//EN
CALSCALE:GREGORIAN
METHOD:PUBLISH
X-WR-CALNAME:Railyard Plaza
X-WR-CALDESC:Upcoming events at Railyard Plaza
BEGIN:VTIMEZONE
TZID:America/Denver 
END:VTIMEZONE
BEGIN:VEVENT
SEQUENCE:2
TRANSP:OPAQUE
UID:41841c42bdc7c47f45f6998fcc99e70c
DTSTART:20190706T190000
DTSTAMP:20190706T140149Z
SUMMARY:Dwayne Dopsie and the Zydeco Hellraisers - FREE SHOW
DESCRIPTION:Dwayne (Dopsie) Rubin hails from one of the most influential Zydeco families in the world. Although inspired by tradition, Dwayne has developed his own high energy style that defies existing stereotypes and blazes a refreshingly distinct path for 21st century Zydeco music. This singer/songwriter and accordionist has performed all over the world since debuting his band, Dwayne Dopsie and the Zydeco Hellraisers, at age 19. His latest album, "Top of the Mountain," was a 2018 Grammy Nominee in the category of Best Regional Roots Music Album. Felix Y Los Gatos will open the show.
CREATED:20190706T140149Z
URL;VALUE=URI:http://holdmyticket.com/event/341288 

DTEND:20190706T213000
END:VEVENT
END:VCALENDAR