BEGIN:VCALENDAR
METHOD:PUBLISH
X-WR-TIMEZONE:America/Denver
PRODID:-//Hold My Ticket.//HMT Web App//EN
CALSCALE:GREGORIAN
METHOD:PUBLISH
X-WR-CALNAME:The Oriental Theater
X-WR-CALDESC:Upcoming events at The Oriental Theater
BEGIN:VTIMEZONE
TZID:America/Denver 
END:VTIMEZONE
BEGIN:VEVENT
SEQUENCE:2
TRANSP:OPAQUE
UID:01085e45d17919ac1e765ad1c89528b3
DTSTART:20191122T200000
DTSTAMP:20190807T133927Z
SUMMARY:Trae Crowder's (the Liberal Redneck) wellRED Comedy Tour with Drew Morgan and Corey Ryan Forrester
DESCRIPTION:
CREATED:20190807T133927Z
URL;VALUE=URI:http://holdmyticket.com/event/341442 

DTEND:20191122T221500
END:VEVENT
END:VCALENDAR