BEGIN:VCALENDAR
METHOD:PUBLISH
X-WR-TIMEZONE:America/Denver
PRODID:-//Hold My Ticket.//HMT Web App//EN
CALSCALE:GREGORIAN
METHOD:PUBLISH
X-WR-CALNAME:The Oriental Theater
X-WR-CALDESC:Upcoming events at The Oriental Theater
BEGIN:VTIMEZONE
TZID:America/Denver 
END:VTIMEZONE
BEGIN:VEVENT
SEQUENCE:2
TRANSP:OPAQUE
UID:9074a9648bd7d4a68a22cdf711cb2dc2
DTSTART:20191123T200000
DTSTAMP:20190807T135029Z
SUMMARY:Trae Crowder's (the Liberal Redneck) wellRED Comedy Tour with Drew Morgan and Corey Ryan Forrester
DESCRIPTION:
CREATED:20190807T135029Z
URL;VALUE=URI:http://holdmyticket.com/event/341447 

DTEND:20191123T221500
END:VEVENT
END:VCALENDAR