BEGIN:VCALENDAR
METHOD:PUBLISH
X-WR-TIMEZONE:America/Chicago
PRODID:-//Hold My Ticket.//HMT Web App//EN
CALSCALE:GREGORIAN
METHOD:PUBLISH
X-WR-CALNAME:Threadgill's 
X-WR-CALDESC:Upcoming events at Threadgill's 
BEGIN:VTIMEZONE
TZID:America/Chicago 
END:VTIMEZONE
BEGIN:VEVENT
SEQUENCE:2
TRANSP:OPAQUE
UID:17b9f8491261b2e808089c47ef087639
DTSTART:20190517T200000
DTSTAMP:20190517T170910Z
SUMMARY:Songwriters Series: Tahni Handal
DESCRIPTION:Tahni Handal has been on the music scene for many years, and now she's back with two new albums. Her music is groovy, soulful, rockin, poppin, and just plain cool. Put on your dancin shoes and bop on down for a good time. Get ready for a magical night of music, laughter, and love!

CREATED:20190517T170910Z
URL;VALUE=URI:http://holdmyticket.com/event/341470 

DTEND:20190517T220000
END:VEVENT
END:VCALENDAR