BEGIN:VCALENDAR
METHOD:PUBLISH
X-WR-TIMEZONE:America/Los_Angeles
PRODID:-//Hold My Ticket.//HMT Web App//EN
CALSCALE:GREGORIAN
METHOD:PUBLISH
X-WR-CALNAME:Twilight Cafe & Bar
X-WR-CALDESC:Upcoming events at Twilight Cafe & Bar
BEGIN:VTIMEZONE
TZID:America/Los_Angeles 
END:VTIMEZONE
BEGIN:VEVENT
SEQUENCE:2
TRANSP:OPAQUE
UID:4d17bac4601217b34a255a604af276cb
DTSTART:20190604T200000
DTSTAMP:20190604T150138Z
SUMMARY:DEATHBED CONFESSIONS,
DESCRIPTION:21+ / $10 / 8pm doors

CREATED:20190604T150138Z
URL;VALUE=URI:http://holdmyticket.com/event/341494 

DTEND:20190604T234500
END:VEVENT
END:VCALENDAR