BEGIN:VCALENDAR
METHOD:PUBLISH
X-WR-TIMEZONE:America/Denver
PRODID:-//Hold My Ticket.//HMT Web App//EN
CALSCALE:GREGORIAN
METHOD:PUBLISH
X-WR-CALNAME:The Bridge Patio (Outside at Santa Fe Brewing Company)
X-WR-CALDESC:Upcoming events at The Bridge Patio (Outside at Santa Fe Brewing Company)
BEGIN:VTIMEZONE
TZID:America/Denver 
END:VTIMEZONE
BEGIN:VEVENT
SEQUENCE:2
TRANSP:OPAQUE
UID:964df7be9ada8363618d901217657c65
DTSTART:20190727T193000
DTSTAMP:20190727T150146Z
SUMMARY:James McMurtry
DESCRIPTION:James McMurtry tours year round and consistently throws down unparalleled powerhouse performances. The Washington Post notes: "Much attention is paid to James McMurtry's lyrics and rightfully so: He creates a novel's worth of emotion and experience in four minutes of blisteringly stark couplets. What gets overlooked, however, is that he's an accomplished rock guitar player... serious stuff, imparted by a singularly serious band."
CREATED:20190727T150146Z
URL;VALUE=URI:http://holdmyticket.com/event/341657 

DTEND:20190727T213000
END:VEVENT
END:VCALENDAR