BEGIN:VCALENDAR
METHOD:PUBLISH
X-WR-TIMEZONE:America/Chicago
PRODID:-//Hold My Ticket.//HMT Web App//EN
CALSCALE:GREGORIAN
METHOD:PUBLISH
X-WR-CALNAME:Threadgill's 
X-WR-CALDESC:Upcoming events at Threadgill's 
BEGIN:VTIMEZONE
TZID:America/Chicago 
END:VTIMEZONE
BEGIN:VEVENT
SEQUENCE:2
TRANSP:OPAQUE
UID:f087b8765854ca2d1d09777b04217298
DTSTART:20190607T200000
DTSTAMP:20190607T150139Z
SUMMARY:Songwriters Series: Coby Wier
DESCRIPTION:Coby Wier joins us for the Songwriters Series in Threadgill's Listening Room. Music runs in Coby's family and you may recognize the music of his father, Rusty Wier. Don't miss this night of incredible songwriting and talent! 
CREATED:20190607T150139Z
URL;VALUE=URI:http://holdmyticket.com/event/342279 

DTEND:20190607T220000
END:VEVENT
END:VCALENDAR