BEGIN:VCALENDAR
METHOD:PUBLISH
X-WR-TIMEZONE:America/Chicago
PRODID:-//Hold My Ticket.//HMT Web App//EN
CALSCALE:GREGORIAN
METHOD:PUBLISH
X-WR-CALNAME:Threadgill's 
X-WR-CALDESC:Upcoming events at Threadgill's 
BEGIN:VTIMEZONE
TZID:America/Chicago 
END:VTIMEZONE
BEGIN:VEVENT
SEQUENCE:2
TRANSP:OPAQUE
UID:efedaf0845b6445c53d95308012da0f9
DTSTART:20190615T200000
DTSTAMP:20190615T150106Z
SUMMARY:The South Austin Moonlighters
DESCRIPTION:Success for this "True Americana" ensemble has been about embracing a supergroup ethos while shunning supergroup egos. At their best, the band represents not just what's right about the Austin TX music community but about live music as a whole. And they're only getting better.
CREATED:20190615T150106Z
URL;VALUE=URI:http://holdmyticket.com/event/342280 

DTEND:20190615T220000
END:VEVENT
END:VCALENDAR