BEGIN:VCALENDAR
METHOD:PUBLISH
X-WR-TIMEZONE:America/Chicago
PRODID:-//Hold My Ticket.//HMT Web App//EN
CALSCALE:GREGORIAN
METHOD:PUBLISH
X-WR-CALNAME:Threadgill's 
X-WR-CALDESC:Upcoming events at Threadgill's 
BEGIN:VTIMEZONE
TZID:America/Chicago 
END:VTIMEZONE
BEGIN:VEVENT
SEQUENCE:2
TRANSP:OPAQUE
UID:9bcf79ad80022b8f8254302b40c74e56
DTSTART:20190621T200000
DTSTAMP:20190621T150157Z
SUMMARY:Guy Forsyth &amp; Jeska Bailey CD Release Party 
DESCRIPTION:Austin's Guy Forsyth has long enjoyed praise for his dazzling live shows and rich Americana and Blues roots sound. His songs incorporate a unique mixture of styles and his sound is at once polished, raw, compelling and irresistibly rump-shaking. He joins us at Threadgill's for the release of his new CD: Conspirators - released on Small and Nimble Records in collaboration with Jeska Bailey. 
CREATED:20190621T150157Z
URL;VALUE=URI:http://holdmyticket.com/event/342282 

DTEND:20190621T220000
END:VEVENT
END:VCALENDAR