BEGIN:VCALENDAR
METHOD:PUBLISH
X-WR-TIMEZONE:America/Chicago
PRODID:-//Hold My Ticket.//HMT Web App//EN
CALSCALE:GREGORIAN
METHOD:PUBLISH
X-WR-CALNAME:Threadgill's 
X-WR-CALDESC:Upcoming events at Threadgill's 
BEGIN:VTIMEZONE
TZID:America/Chicago 
END:VTIMEZONE
BEGIN:VEVENT
SEQUENCE:2
TRANSP:OPAQUE
UID:5450e6b4973545c6dcb9b115ac2586b9
DTSTART:20190622T200000
DTSTAMP:20190622T150116Z
SUMMARY:Songwriters Series: Shelly Knight Band
DESCRIPTION:The Shelly Knight band is an original classic rock-style band from Austin, Texas, fronted by vocalist/song-writer Shelly Knight, who has been a D.J. for over half her life. After spending time with 'The South Austin Gospel Choir' in 1998, honing her skills in singing gospel and blues, Shelly developed her love for blues and classic rock in a style that's all her own.
CREATED:20190622T150116Z
URL;VALUE=URI:http://holdmyticket.com/event/342284 

DTEND:20190622T220000
END:VEVENT
END:VCALENDAR