BEGIN:VCALENDAR
METHOD:PUBLISH
X-WR-TIMEZONE:America/Denver
PRODID:-//Hold My Ticket.//HMT Web App//EN
CALSCALE:GREGORIAN
METHOD:PUBLISH
X-WR-CALNAME:Villa Hispana at Expo New Mexico
X-WR-CALDESC:Upcoming events at Villa Hispana at Expo New Mexico
BEGIN:VTIMEZONE
TZID:America/Denver 
END:VTIMEZONE
BEGIN:VEVENT
SEQUENCE:2
TRANSP:OPAQUE
UID:4442d1e283508f8162e8fd1c3d3bfbd6
DTSTART:20191012T130000
DTSTAMP:20191012T095513Z
SUMMARY:New Mexico Brew Fest X
DESCRIPTION:Held during the Albuquerque International Balloon Fiesta, the New Mexico Brew Fest is expecting thousands of thirsty craft beer lovers. This year promises to deliver another round of great LIVE MUSIC and the biggest selection of NEW MEXICO CRAFT BEER along with some of the finest LOCAL FOOD TRUCKS and specialty food producers.
CREATED:20191012T095513Z
URL;VALUE=URI:http://holdmyticket.com/event/342469 

DTEND:20191012T180000
END:VEVENT
END:VCALENDAR