BEGIN:VCALENDAR
METHOD:PUBLISH
X-WR-TIMEZONE:America/Chicago
PRODID:-//Hold My Ticket.//HMT Web App//EN
CALSCALE:GREGORIAN
METHOD:PUBLISH
X-WR-CALNAME:Threadgill's 
X-WR-CALDESC:Upcoming events at Threadgill's 
BEGIN:VTIMEZONE
TZID:America/Chicago 
END:VTIMEZONE
BEGIN:VEVENT
SEQUENCE:2
TRANSP:OPAQUE
UID:6a0f9ee44eeaa0fc8603abf284fbc954
DTSTART:20190602T183000
DTSTAMP:20190602T140123Z
SUMMARY:Soul of a Musician Series: Monte Warden
DESCRIPTION:Don't miss the talented and always entertaining Monte Warden, performing as part of the Soul of a Musician Series presented by St. Matthew's. 
CREATED:20190602T140123Z
URL;VALUE=URI:http://holdmyticket.com/event/342479 

DTEND:20190602T203000
END:VEVENT
END:VCALENDAR