BEGIN:VCALENDAR
METHOD:PUBLISH
X-WR-TIMEZONE:America/Chicago
PRODID:-//Hold My Ticket.//HMT Web App//EN
CALSCALE:GREGORIAN
METHOD:PUBLISH
X-WR-CALNAME:Threadgill's 
X-WR-CALDESC:Upcoming events at Threadgill's 
BEGIN:VTIMEZONE
TZID:America/Chicago 
END:VTIMEZONE
BEGIN:VEVENT
SEQUENCE:2
TRANSP:OPAQUE
UID:396090eb700503cefdb300a85fe3ce16
DTSTART:20190605T190000
DTSTAMP:20190605T140119Z
SUMMARY:Midweek Modern Troubadours: Adam &amp; Chris Carroll with Jana Pochop
DESCRIPTION:The Midweek Modern Troubadors series continues into June with with Jana and the amazing Chris Carroll and Adam Carroll. Adam just released one of the best albums of the year and it'll be followed up with a Chris &amp; Adam record in the fall. Adam Carroll was called "one of the best songwriters that Texas has produced" by Jon Dee Graham.
CREATED:20190605T140119Z
URL;VALUE=URI:http://holdmyticket.com/event/342480 

DTEND:20190605T210000
END:VEVENT
END:VCALENDAR