BEGIN:VCALENDAR
METHOD:PUBLISH
X-WR-TIMEZONE:America/Chicago
PRODID:-//Hold My Ticket.//HMT Web App//EN
CALSCALE:GREGORIAN
METHOD:PUBLISH
X-WR-CALNAME:Threadgill's 
X-WR-CALDESC:Upcoming events at Threadgill's 
BEGIN:VTIMEZONE
TZID:America/Chicago 
END:VTIMEZONE
BEGIN:VEVENT
SEQUENCE:2
TRANSP:OPAQUE
UID:c1501eb768fed343722070040ec72e49
DTSTART:20190629T190000
DTSTAMP:20190629T140119Z
SUMMARY:Songwriters Series: The Staehely Brothers
DESCRIPTION:Austin natives and formerly of the band Spirit, the Staehely Brothers' rich musical history dates back to the classic, 1970s era of rock-n-roll. 
CREATED:20190629T140119Z
URL;VALUE=URI:http://holdmyticket.com/event/342483 

DTEND:20190629T210000
END:VEVENT
END:VCALENDAR