BEGIN:VCALENDAR
METHOD:PUBLISH
X-WR-TIMEZONE:America/Chicago
PRODID:-//Hold My Ticket.//HMT Web App//EN
CALSCALE:GREGORIAN
METHOD:PUBLISH
X-WR-CALNAME:Threadgill's 
X-WR-CALDESC:Upcoming events at Threadgill's 
BEGIN:VTIMEZONE
TZID:America/Chicago 
END:VTIMEZONE
BEGIN:VEVENT
SEQUENCE:2
TRANSP:OPAQUE
UID:db3d57dafa8a693fd3f778d9d8c6bbed
DTSTART:20190614T200000
DTSTAMP:20190614T150159Z
SUMMARY:Songwriters Series: MUU
DESCRIPTION:Muu is a local Austin band whose music is largely psychedelic rock/dream pop, but very eclectic, high energy, dance music. 
CREATED:20190614T150159Z
URL;VALUE=URI:http://holdmyticket.com/event/342485 

DTEND:20190614T220000
END:VEVENT
END:VCALENDAR