BEGIN:VCALENDAR
METHOD:PUBLISH
X-WR-TIMEZONE:America/Chicago
PRODID:-//Hold My Ticket.//HMT Web App//EN
CALSCALE:GREGORIAN
METHOD:PUBLISH
X-WR-CALNAME:Threadgill's 
X-WR-CALDESC:Upcoming events at Threadgill's 
BEGIN:VTIMEZONE
TZID:America/Chicago 
END:VTIMEZONE
BEGIN:VEVENT
SEQUENCE:2
TRANSP:OPAQUE
UID:7402d8b949eded0dda63c7ecd002a6c6
DTSTART:20190619T190000
DTSTAMP:20190619T140142Z
SUMMARY:Midweek Modern Troubadours featuring Jana Pochop and Emily Shirley 
DESCRIPTION:Join us for our new Wednesday night music series, Midweek Modern Troubadours, featuring Jana Pochop with special guests Emily Shirley. Emily Shirley's brand of thoughtful songwriter pop/rock is as finely tuned and brightly colored as the graphic design projects she works on for her day gig.  Her latest release, Courage Up, is a  genre-bending hybrid of indie-pop melodies woven over thoughtful, grounded lyrics. The 2018 follow up to 2015's Duotone album continues Shirley's presence as a vibrant writer who has come into her own in the Austin, Texas scene.
CREATED:20190619T140142Z
URL;VALUE=URI:http://holdmyticket.com/event/342486 

DTEND:20190619T210000
END:VEVENT
END:VCALENDAR