BEGIN:VCALENDAR
METHOD:PUBLISH
X-WR-TIMEZONE:America/Chicago
PRODID:-//Hold My Ticket.//HMT Web App//EN
CALSCALE:GREGORIAN
METHOD:PUBLISH
X-WR-CALNAME:Threadgill's 
X-WR-CALDESC:Upcoming events at Threadgill's 
BEGIN:VTIMEZONE
TZID:America/Chicago 
END:VTIMEZONE
BEGIN:VEVENT
SEQUENCE:2
TRANSP:OPAQUE
UID:dcb4496068afc052a178dd281325065f
DTSTART:20190626T190000
DTSTAMP:20190626T140136Z
SUMMARY:Wonder What Wednesday: Shawnee Kilgore and Monte Warden
DESCRIPTION:Join Shawnee Kilgore during the Wonder What Wednesday series for a weekly song swap, featuring this week's special guest Monte Warden, frontman for The Wagoneers. 
CREATED:20190626T140136Z
URL;VALUE=URI:http://holdmyticket.com/event/342487 

DTEND:20190626T210000
END:VEVENT
END:VCALENDAR